BEGIN:VCALENDAR
VERSION:2.0
PRODID:-//eventon.com NONSGML v1.0//EN
CALSCALE:GREGORIAN
METHOD:PUBLISH
BEGIN:VEVENT
UID:69eb779bcf6ec
DTSTAMP:20260424T140059Z
DTSTART:20260509T210000Z
DTEND:20260510T050000Z
LOCATION:Stade des Tattes\,  Onex Stade des Tattes Rue du Comte-Géraud 14 1213 Onex
SUMMARY:Onex 175ème - Cité du mouvement
DESCRIPTION:Onex fête ses 175 ans et propose un week-end dédié au sport 
 et associations sportives onésiennes !\nhttps://cso-plongee.com/events/one
 x175/
URL:https://cso-plongee.com/events/onex175/
END:VEVENT
END:VCALENDAR