BEGIN:VCALENDAR
VERSION:2.0
PRODID:-//eventon.com NONSGML v1.0//EN
CALSCALE:GREGORIAN
METHOD:PUBLISH
BEGIN:VEVENT
UID:69eb64488fce7
DTSTAMP:20260424T123832Z
DTSTART:20260510T210000Z
DTEND:20260511T050000Z
LOCATION:Stade des Tattes\,  Onex Stade des Tattes Rue du Comte-Géraud 14 1213 Onex
SUMMARY:Onex 175ème - Cité du mouvement
DESCRIPTION:Onex fête ses 175 ans et propose un week-end dédié au sport 
 et associations sportives onésiennes !\nhttps://cso-plongee.com/events/one
 x-175eme-cite-du-mouvement/
URL:https://cso-plongee.com/events/onex-175eme-cite-du-mouvement/
END:VEVENT
END:VCALENDAR