BEGIN:VCALENDAR
VERSION:2.0
PRODID:-//eventon.com NONSGML v1.0//EN
CALSCALE:GREGORIAN
METHOD:PUBLISH
BEGIN:VEVENT
UID:69eb644fd3802
DTSTAMP:20260424T123839Z
DTSTART:20261018
DTEND:20261019
LOCATION:
SUMMARY:Plongée à définir - save the date
DESCRIPTION:A VOS AGENDAS Réservez cette date &#8211; Plus d&rsquo;informa
 tion suivront\nhttps://cso-plongee.com/events/octobre2026/
URL:https://cso-plongee.com/events/octobre2026/
END:VEVENT
END:VCALENDAR