BEGIN:VCALENDAR
VERSION:2.0
PRODID:-//eventon.com NONSGML v1.0//EN
CALSCALE:GREGORIAN
METHOD:PUBLISH
BEGIN:VEVENT
UID:69eb633442691
DTSTAMP:20260424T123356Z
DTSTART:20261122
DTEND:20261123
LOCATION:
SUMMARY:Plongée à définir - save the date
DESCRIPTION:A VOS AGENDAS Réservez cette date &#8211; Plus d&rsquo;informa
 tion suivront\nhttps://cso-plongee.com/events/novembre2026/
URL:https://cso-plongee.com/events/novembre2026/
END:VEVENT
END:VCALENDAR