BEGIN:VCALENDAR
VERSION:2.0
PRODID:-//eventon.com NONSGML v1.0//EN
CALSCALE:GREGORIAN
METHOD:PUBLISH
BEGIN:VEVENT
UID:69eb794824389
DTSTAMP:20260424T140808Z
DTSTART:20261213T203000Z
DTEND:20261214T010000Z
LOCATION:La Banane Quai Gustave-Ador\,  1207 Genève
SUMMARY:Plongée de l'Escalade sur la Banane
DESCRIPTION:Pour cette dernière plongée de l&rsquo;année nous vous propo
 sons de plonger sous le jet d&rsquo;eau sur le site de La Banane Comme chaq
 ue année cette plongée est soumise à autorisation (en attente). Niveau :
  Tout niveau Informations complémentaires à suivre\nhttps://cso-plongee.c
 om/events/banane2026/
URL:https://cso-plongee.com/events/banane2026/
END:VEVENT
END:VCALENDAR